BEGIN:VCALENDAR
VERSION:2.0
PRODID:-//FarmaVital - ECPv6.15.19//NONSGML v1.0//EN
CALSCALE:GREGORIAN
METHOD:PUBLISH
X-WR-CALNAME:FarmaVital
X-ORIGINAL-URL:https://farmavitalgrupo.com
X-WR-CALDESC:Eventos para FarmaVital
REFRESH-INTERVAL;VALUE=DURATION:PT1H
X-Robots-Tag:noindex
X-PUBLISHED-TTL:PT1H
BEGIN:VTIMEZONE
TZID:UTC
BEGIN:STANDARD
TZOFFSETFROM:+0000
TZOFFSETTO:+0000
TZNAME:UTC
DTSTART:20240101T000000
END:STANDARD
END:VTIMEZONE
BEGIN:VEVENT
DTSTART;TZID=UTC:20250730T130000
DTEND;TZID=UTC:20250730T160000
DTSTAMP:20260422T173924
CREATED:20250722T124632Z
LAST-MODIFIED:20250722T140722Z
UID:16358-1753880400-1753891200@farmavitalgrupo.com
SUMMARY:Jornada de Salud junto a laboratorio Arcoiris - FarmaVital Monaco Caracas
DESCRIPTION:https://farmavitalgrupo.com/wp-content/uploads/2025/07/farma.mp4
URL:https://farmavitalgrupo.com/jornadas/jornada-de-salud-farmavital-monaco-caracas/
LOCATION:Farma Vital Monaco Caracas\, Caracas\, Venezuela
ATTACH;FMTTYPE=image/jpeg:https://farmavitalgrupo.com/wp-content/uploads/2025/07/farma-monaco.jpeg
ORGANIZER;CN="FarmaVital":MAILTO:farmavitalc.a@gmail.com
END:VEVENT
BEGIN:VEVENT
DTSTART;TZID=UTC:20250412T100000
DTEND;TZID=UTC:20250412T130000
DTSTAMP:20260422T173924
CREATED:20250408T183113Z
LAST-MODIFIED:20250408T183113Z
UID:16061-1744452000-1744462800@farmavitalgrupo.com
SUMMARY:Dia producto «Laboratorio Sensilis» – Semana de Aniversario – Farmacia Farma Vital El Limón
DESCRIPTION:
URL:https://farmavitalgrupo.com/jornadas/dia-producto-laboratorio-sensilis-semana-de-aniversario-farmacia-farma-vital-el-limon/
LOCATION:Farma Vital El Limon
ATTACH;FMTTYPE=image/webp:https://farmavitalgrupo.com/wp-content/uploads/2025/04/image.webp
ORGANIZER;CN="FarmaVital":MAILTO:farmavitalc.a@gmail.com
END:VEVENT
BEGIN:VEVENT
DTSTART;TZID=UTC:20250411T140000
DTEND;TZID=UTC:20250411T160000
DTSTAMP:20260422T173924
CREATED:20250408T182922Z
LAST-MODIFIED:20250408T182956Z
UID:16059-1744380000-1744387200@farmavitalgrupo.com
SUMMARY:Dia producto «Pharmetique» – Semana de Aniversario – Farmacia Farma Vital El Limón
DESCRIPTION:
URL:https://farmavitalgrupo.com/jornadas/dia-producto-pharmetique-semana-de-aniversario-farmacia-farma-vital-el-limon/
LOCATION:Farma Vital El Limon
ATTACH;FMTTYPE=image/webp:https://farmavitalgrupo.com/wp-content/uploads/2025/04/image.webp
ORGANIZER;CN="FarmaVital":MAILTO:farmavitalc.a@gmail.com
END:VEVENT
BEGIN:VEVENT
DTSTART;TZID=UTC:20250411T090000
DTEND;TZID=UTC:20250411T120000
DTSTAMP:20260422T173924
CREATED:20250408T182632Z
LAST-MODIFIED:20250408T182632Z
UID:16057-1744362000-1744372800@farmavitalgrupo.com
SUMMARY:Jornada pediátrica «Laboratorio Leti» – Semana de Aniversario – Farmacia Farma Vital El Limón
DESCRIPTION:
URL:https://farmavitalgrupo.com/jornadas/jornada-pediatrica-laboratorio-leti-semana-de-aniversario-farmacia-farma-vital-el-limon/
LOCATION:Farma Vital El Limon
ATTACH;FMTTYPE=image/webp:https://farmavitalgrupo.com/wp-content/uploads/2025/04/image.webp
ORGANIZER;CN="FarmaVital":MAILTO:farmavitalc.a@gmail.com
END:VEVENT
BEGIN:VEVENT
DTSTART;TZID=UTC:20250410T160000
DTEND;TZID=UTC:20250410T180000
DTSTAMP:20260422T173924
CREATED:20250408T182227Z
LAST-MODIFIED:20250408T182322Z
UID:16055-1744300800-1744308000@farmavitalgrupo.com
SUMMARY:Dia producto «Laboratorio Elmor» – Semana de Aniversario – Farmacia Farma Vital El Limón
DESCRIPTION:
URL:https://farmavitalgrupo.com/jornadas/dia-producto-laboratorio-elmor-semana-de-aniversario-farmacia-farma-vital-el-limon/
LOCATION:Farma Vital El Limon
ATTACH;FMTTYPE=image/webp:https://farmavitalgrupo.com/wp-content/uploads/2025/04/image.webp
ORGANIZER;CN="FarmaVital":MAILTO:farmavitalc.a@gmail.com
END:VEVENT
BEGIN:VEVENT
DTSTART;TZID=UTC:20250410T090000
DTEND;TZID=UTC:20250410T120000
DTSTAMP:20260422T173924
CREATED:20250408T181447Z
LAST-MODIFIED:20250408T181513Z
UID:16053-1744275600-1744286400@farmavitalgrupo.com
SUMMARY:Dia producto «Laboratorio Fonti» – Semana de Aniversario – Farmacia Farma Vital El Limón
DESCRIPTION:
URL:https://farmavitalgrupo.com/jornadas/dia-producto-laboratorio-fonti-semana-de-aniversario-farmacia-farma-vital-el-limon/
LOCATION:Farma Vital El Limon
ATTACH;FMTTYPE=image/webp:https://farmavitalgrupo.com/wp-content/uploads/2025/04/image.webp
ORGANIZER;CN="FarmaVital":MAILTO:farmavitalc.a@gmail.com
END:VEVENT
BEGIN:VEVENT
DTSTART;TZID=UTC:20250409T140000
DTEND;TZID=UTC:20250409T180000
DTSTAMP:20260422T173924
CREATED:20250408T172620Z
LAST-MODIFIED:20250408T180916Z
UID:16049-1744207200-1744221600@farmavitalgrupo.com
SUMMARY:Jornada médica/impulso «Laboratorio Natural Premium» – Semana de Aniversario – Farmacia Farma Vital El Limón
DESCRIPTION:
URL:https://farmavitalgrupo.com/jornadas/jornada-medica-impulso-laboratorio-natural-premium-semana-de-aniversario-farmacia-farma-vital-el-limon/
LOCATION:Farma Vital El Limon
ATTACH;FMTTYPE=image/webp:https://farmavitalgrupo.com/wp-content/uploads/2025/04/image.webp
ORGANIZER;CN="FarmaVital":MAILTO:farmavitalc.a@gmail.com
END:VEVENT
BEGIN:VEVENT
DTSTART;TZID=UTC:20250409T090000
DTEND;TZID=UTC:20250409T120000
DTSTAMP:20260422T173924
CREATED:20250408T154311Z
LAST-MODIFIED:20250408T180016Z
UID:16039-1744189200-1744200000@farmavitalgrupo.com
SUMMARY:Jornada natural «Laboratorio Arcoiris» – Semana de Aniversario – Farmacia Farma Vital El Limón
DESCRIPTION:
URL:https://farmavitalgrupo.com/jornadas/dia-impulso-rifas-y-muestras-medicas-laboratorio-c-c-m-semana-de-aniversario-farmacia-farma-vital-el-limon/
LOCATION:Farma Vital El Limon
ATTACH;FMTTYPE=image/webp:https://farmavitalgrupo.com/wp-content/uploads/2025/04/image.webp
ORGANIZER;CN="FarmaVital":MAILTO:farmavitalc.a@gmail.com
END:VEVENT
BEGIN:VEVENT
DTSTART;TZID=UTC:20250408T160000
DTEND;TZID=UTC:20250408T180000
DTSTAMP:20260422T173924
CREATED:20250408T172142Z
LAST-MODIFIED:20250408T175522Z
UID:16045-1744128000-1744135200@farmavitalgrupo.com
SUMMARY:Rifas/muestras médicas «Laboratorio C.C.M» – Semana de Aniversario – Farmacia Farma Vital El Limón
DESCRIPTION:
URL:https://farmavitalgrupo.com/jornadas/dia-impulso-rifa-lattan-medic-semana-de-aniversario-farmacia-farma-vital-el-limon/
LOCATION:Farma Vital El Limon
ATTACH;FMTTYPE=image/webp:https://farmavitalgrupo.com/wp-content/uploads/2025/04/image.webp
ORGANIZER;CN="FarmaVital":MAILTO:farmavitalc.a@gmail.com
END:VEVENT
BEGIN:VEVENT
DTSTART;TZID=UTC:20250408T120000
DTEND;TZID=UTC:20250408T150000
DTSTAMP:20260422T173924
CREATED:20250408T153735Z
LAST-MODIFIED:20250408T175439Z
UID:16036-1744113600-1744124400@farmavitalgrupo.com
SUMMARY:Dia impulso/Rifa «Lattan Medic» – Semana de Aniversario – Farmacia Farma Vital El Limón
DESCRIPTION:
URL:https://farmavitalgrupo.com/jornadas/dia-impulso-con-lattan-medic-semana-de-aniversario-farmacia-farma-vital-el-limon/
LOCATION:Farma Vital El Limon
ATTACH;FMTTYPE=image/webp:https://farmavitalgrupo.com/wp-content/uploads/2025/04/image.webp
ORGANIZER;CN="FarmaVital":MAILTO:farmavitalc.a@gmail.com
END:VEVENT
BEGIN:VEVENT
DTSTART;TZID=UTC:20250408T090000
DTEND;TZID=UTC:20250408T120000
DTSTAMP:20260422T173924
CREATED:20250408T153302Z
LAST-MODIFIED:20250408T175343Z
UID:16034-1744102800-1744113600@farmavitalgrupo.com
SUMMARY:Jornada visual con «Oftalmi» – Semana de Aniversario – Farmacia Farma Vital El Limón
DESCRIPTION:
URL:https://farmavitalgrupo.com/jornadas/jornada-visual-con-oftalmi-semana-de-aniversario-farmacia-farma-vital-el-limon/
LOCATION:Farma Vital El Limon
ATTACH;FMTTYPE=image/webp:https://farmavitalgrupo.com/wp-content/uploads/2025/04/image.webp
ORGANIZER;CN="FarmaVital":MAILTO:farmavitalc.a@gmail.com
END:VEVENT
BEGIN:VEVENT
DTSTART;TZID=UTC:20250407T150000
DTEND;TZID=UTC:20250407T180000
DTSTAMP:20260422T173924
CREATED:20250408T152605Z
LAST-MODIFIED:20250408T175219Z
UID:16029-1744038000-1744048800@farmavitalgrupo.com
SUMMARY:Dia Impulso «Valmor C.A» – Semana de Aniversario – Farmacia Farma Vital El Limón
DESCRIPTION:
URL:https://farmavitalgrupo.com/jornadas/dia-impulso-valmor-c-a-semana-de-aniversario-farmacia-farma-vital-el-limon/
LOCATION:Farma Vital El Limon
ATTACH;FMTTYPE=image/webp:https://farmavitalgrupo.com/wp-content/uploads/2025/04/image.webp
ORGANIZER;CN="FarmaVital":MAILTO:farmavitalc.a@gmail.com
END:VEVENT
BEGIN:VEVENT
DTSTART;TZID=UTC:20250407T090000
DTEND;TZID=UTC:20250407T120000
DTSTAMP:20260422T173924
CREATED:20250408T152851Z
LAST-MODIFIED:20250408T175029Z
UID:16032-1744016400-1744027200@farmavitalgrupo.com
SUMMARY:Jornada cardiologíca – Semana de aniversario – Farmacia Farma Vital El Limón.
DESCRIPTION:
URL:https://farmavitalgrupo.com/jornadas/jornada-cardiologica-semana-de-aniversario-farmacia-farma-vital-el-limon/
LOCATION:Farma Vital El Limon
ATTACH;FMTTYPE=image/webp:https://farmavitalgrupo.com/wp-content/uploads/2025/04/image.webp
ORGANIZER;CN="FarmaVital":MAILTO:farmavitalc.a@gmail.com
END:VEVENT
BEGIN:VEVENT
DTSTART;TZID=UTC:20250328T140000
DTEND;TZID=UTC:20250328T160000
DTSTAMP:20260422T173924
CREATED:20250317T173633Z
LAST-MODIFIED:20250317T173633Z
UID:15795-1743170400-1743177600@farmavitalgrupo.com
SUMMARY:Tarde Producto «Valmorca» – Semana de Aniversario – Farmacia Farma Vital del Centro JV Palo Negro.
DESCRIPTION:
URL:https://farmavitalgrupo.com/jornadas/tarde-producto-valmorca-semana-de-aniversario-farmacia-farma-vital-del-centro-jv-palo-negro/
LOCATION:Farma Vital Centro JV\, 5FC3+85R\, C. Girardot\, Palo Negro 2117\, Aragua\, Venezuela\, Palo Negro\, Aragua\, 2117\, Venezuela
ATTACH;FMTTYPE=image/webp:https://farmavitalgrupo.com/wp-content/uploads/2025/03/484969056_18061117082300028_19394693171038092_n.webp
ORGANIZER;CN="FarmaVital":MAILTO:farmavitalc.a@gmail.com
END:VEVENT
BEGIN:VEVENT
DTSTART;TZID=UTC:20250328T090000
DTEND;TZID=UTC:20250328T120000
DTSTAMP:20260422T173924
CREATED:20250317T173532Z
LAST-MODIFIED:20250317T173532Z
UID:15793-1743152400-1743163200@farmavitalgrupo.com
SUMMARY:Jornada de Cardiología - Semana de Aniversario - Farmacia Farma Vital del Centro JV Palo Negro.
DESCRIPTION:
URL:https://farmavitalgrupo.com/jornadas/jornada-de-cardiologia-semana-de-aniversario-farmacia-farma-vital-del-centro-jv-palo-negro/
LOCATION:Farma Vital Centro JV\, 5FC3+85R\, C. Girardot\, Palo Negro 2117\, Aragua\, Venezuela\, Palo Negro\, Aragua\, 2117\, Venezuela
ATTACH;FMTTYPE=image/webp:https://farmavitalgrupo.com/wp-content/uploads/2025/03/484969056_18061117082300028_19394693171038092_n.webp
ORGANIZER;CN="FarmaVital":MAILTO:farmavitalc.a@gmail.com
END:VEVENT
BEGIN:VEVENT
DTSTART;TZID=UTC:20250327T140000
DTEND;TZID=UTC:20250327T160000
DTSTAMP:20260422T173924
CREATED:20250317T173403Z
LAST-MODIFIED:20250317T173403Z
UID:15791-1743084000-1743091200@farmavitalgrupo.com
SUMMARY:Tarde Producto «Mayer» – Semana de Aniversario – Farmacia Farma Vital del Centro JV Palo Negro.
DESCRIPTION:
URL:https://farmavitalgrupo.com/jornadas/tarde-producto-mayer-semana-de-aniversario-farmacia-farma-vital-del-centro-jv-palo-negro/
LOCATION:Farma Vital Centro JV\, 5FC3+85R\, C. Girardot\, Palo Negro 2117\, Aragua\, Venezuela\, Palo Negro\, Aragua\, 2117\, Venezuela
ATTACH;FMTTYPE=image/webp:https://farmavitalgrupo.com/wp-content/uploads/2025/03/484969056_18061117082300028_19394693171038092_n.webp
ORGANIZER;CN="FarmaVital":MAILTO:farmavitalc.a@gmail.com
END:VEVENT
BEGIN:VEVENT
DTSTART;TZID=UTC:20250327T090000
DTEND;TZID=UTC:20250327T120000
DTSTAMP:20260422T173924
CREATED:20250317T173253Z
LAST-MODIFIED:20250317T173253Z
UID:15788-1743066000-1743076800@farmavitalgrupo.com
SUMMARY:Jornada de Medicina - Semana de Aniversario - Farmacia Farma Vital del Centro JV Palo Negro.
DESCRIPTION:
URL:https://farmavitalgrupo.com/jornadas/jornada-de-medicina-semana-de-aniversario-farmacia-farma-vital-del-centro-jv-palo-negro/
LOCATION:Farma Vital Centro JV\, 5FC3+85R\, C. Girardot\, Palo Negro 2117\, Aragua\, Venezuela\, Palo Negro\, Aragua\, 2117\, Venezuela
ATTACH;FMTTYPE=image/webp:https://farmavitalgrupo.com/wp-content/uploads/2025/03/484969056_18061117082300028_19394693171038092_n.webp
ORGANIZER;CN="FarmaVital":MAILTO:farmavitalc.a@gmail.com
END:VEVENT
BEGIN:VEVENT
DTSTART;TZID=UTC:20250326T140000
DTEND;TZID=UTC:20250326T170000
DTSTAMP:20260422T173924
CREATED:20250317T172322Z
LAST-MODIFIED:20250317T172905Z
UID:15782-1742997600-1743008400@farmavitalgrupo.com
SUMMARY:Tarde Producto «Biofar» - Semana de Aniversario - Farmacia Farma Vital del Centro JV Palo Negro.
DESCRIPTION:
URL:https://farmavitalgrupo.com/jornadas/tarde-producto-biofar-semana-de-aniversario-farmacia-farma-vital-del-centro-jv-palo-negro/
LOCATION:Farma Vital Centro JV\, 5FC3+85R\, C. Girardot\, Palo Negro 2117\, Aragua\, Venezuela\, Palo Negro\, Aragua\, 2117\, Venezuela
ATTACH;FMTTYPE=image/webp:https://farmavitalgrupo.com/wp-content/uploads/2025/03/484650405_18061117085300028_4031369805138936334_n.webp
ORGANIZER;CN="FarmaVital":MAILTO:farmavitalc.a@gmail.com
END:VEVENT
BEGIN:VEVENT
DTSTART;TZID=UTC:20250326T090000
DTEND;TZID=UTC:20250326T120000
DTSTAMP:20260422T173924
CREATED:20250317T172126Z
LAST-MODIFIED:20250317T172904Z
UID:15780-1742979600-1742990400@farmavitalgrupo.com
SUMMARY:Jornada de Pediatria - Semana de Aniversario - Farmacia Farma Vital del Centro JV Palo Negro.
DESCRIPTION:
URL:https://farmavitalgrupo.com/jornadas/jornada-de-pediatria-semana-de-aniversario-farmacia-farma-vital-del-centro-jv-palo-negro/
LOCATION:Farma Vital Centro JV\, 5FC3+85R\, C. Girardot\, Palo Negro 2117\, Aragua\, Venezuela\, Palo Negro\, Aragua\, 2117\, Venezuela
ATTACH;FMTTYPE=image/webp:https://farmavitalgrupo.com/wp-content/uploads/2025/03/484650405_18061117085300028_4031369805138936334_n.webp
ORGANIZER;CN="FarmaVital":MAILTO:farmavitalc.a@gmail.com
END:VEVENT
BEGIN:VEVENT
DTSTART;TZID=UTC:20250325T130000
DTEND;TZID=UTC:20250325T160000
DTSTAMP:20260422T173924
CREATED:20250317T172000Z
LAST-MODIFIED:20250317T173009Z
UID:15778-1742907600-1742918400@farmavitalgrupo.com
SUMMARY:Tarde Producto "Megalabs" – Semana de Aniversario – Farmacia Farma Vital del Centro JV Palo Negro.
DESCRIPTION:
URL:https://farmavitalgrupo.com/jornadas/tarde-producto-megalabs-semana-de-aniversario-farmacia-farma-vital-del-centro-jv-palo-negro/
LOCATION:Farma Vital Centro JV\, 5FC3+85R\, C. Girardot\, Palo Negro 2117\, Aragua\, Venezuela\, Palo Negro\, Aragua\, 2117\, Venezuela
ATTACH;FMTTYPE=image/webp:https://farmavitalgrupo.com/wp-content/uploads/2025/03/484650405_18061117085300028_4031369805138936334_n.webp
ORGANIZER;CN="FarmaVital":MAILTO:farmavitalc.a@gmail.com
END:VEVENT
BEGIN:VEVENT
DTSTART;TZID=UTC:20250325T090000
DTEND;TZID=UTC:20250325T120000
DTSTAMP:20260422T173924
CREATED:20250317T171800Z
LAST-MODIFIED:20250317T173007Z
UID:15775-1742893200-1742904000@farmavitalgrupo.com
SUMMARY:Jornada de Medicina Interna- Semana de Aniversario - Farmacia Farma Vital del Centro JV Palo Negro.
DESCRIPTION:
URL:https://farmavitalgrupo.com/jornadas/jornada-de-medicina-interna-semana-de-aniversario-farmacia-farma-vital-del-centro-jv-palo-negro/
LOCATION:Farma Vital Centro JV\, 5FC3+85R\, C. Girardot\, Palo Negro 2117\, Aragua\, Venezuela\, Palo Negro\, Aragua\, 2117\, Venezuela
ATTACH;FMTTYPE=image/webp:https://farmavitalgrupo.com/wp-content/uploads/2025/03/484650405_18061117085300028_4031369805138936334_n.webp
ORGANIZER;CN="FarmaVital":MAILTO:farmavitalc.a@gmail.com
END:VEVENT
BEGIN:VEVENT
DTSTART;TZID=UTC:20250324T160000
DTEND;TZID=UTC:20250324T180000
DTSTAMP:20260422T173924
CREATED:20250317T171313Z
LAST-MODIFIED:20250317T172610Z
UID:15772-1742832000-1742839200@farmavitalgrupo.com
SUMMARY:Tarde Impulso / Obsequios "Lab DAC" – Semana de Aniversario – Farmacia Farma Vital del Centro JV Palo Negro.
DESCRIPTION:
URL:https://farmavitalgrupo.com/jornadas/tarde-impulso-obsequios-lab-dac-semana-de-aniversario-farmacia-farma-vital-del-centro-jv-palo-negro/
LOCATION:Farma Vital Centro JV\, 5FC3+85R\, C. Girardot\, Palo Negro 2117\, Aragua\, Venezuela\, Palo Negro\, Aragua\, 2117\, Venezuela
ATTACH;FMTTYPE=image/jpeg:https://farmavitalgrupo.com/wp-content/uploads/2025/03/484132741_18061117073300028_5660752435529740135_n.jpg
ORGANIZER;CN="FarmaVital":MAILTO:farmavitalc.a@gmail.com
END:VEVENT
BEGIN:VEVENT
DTSTART;TZID=UTC:20250324T140000
DTEND;TZID=UTC:20250324T160000
DTSTAMP:20260422T173924
CREATED:20250317T171144Z
LAST-MODIFIED:20250317T172709Z
UID:15770-1742824800-1742832000@farmavitalgrupo.com
SUMMARY:Tarde Impulso "Lab Oftalmi" – Semana de Aniversario – Farmacia Farma Vital del Centro JV Palo Negro.
DESCRIPTION:
URL:https://farmavitalgrupo.com/jornadas/tarde-impulso-lab-oftalmi-semana-de-aniversario-farmacia-farma-vital-del-centro-jv-palo-negro/
LOCATION:Farma Vital Centro JV\, 5FC3+85R\, C. Girardot\, Palo Negro 2117\, Aragua\, Venezuela\, Palo Negro\, Aragua\, 2117\, Venezuela
ATTACH;FMTTYPE=image/jpeg:https://farmavitalgrupo.com/wp-content/uploads/2025/03/484132741_18061117073300028_5660752435529740135_n.jpg
ORGANIZER;CN="FarmaVital":MAILTO:farmavitalc.a@gmail.com
END:VEVENT
BEGIN:VEVENT
DTSTART;TZID=UTC:20250324T090000
DTEND;TZID=UTC:20250324T120000
DTSTAMP:20260422T173924
CREATED:20250317T164213Z
LAST-MODIFIED:20250317T172717Z
UID:15764-1742806800-1742817600@farmavitalgrupo.com
SUMMARY:Jornada de Cardología - Semana de Aniversario - Farmacia Farma Vital del Centro JV Palo Negro.
DESCRIPTION:
URL:https://farmavitalgrupo.com/jornadas/jornada-cardiologica-semana-de-aniversario-farmacia-farma-vital-en-el-limon-2/
LOCATION:Farma Vital Centro JV\, 5FC3+85R\, C. Girardot\, Palo Negro 2117\, Aragua\, Venezuela\, Palo Negro\, Aragua\, 2117\, Venezuela
ATTACH;FMTTYPE=image/jpeg:https://farmavitalgrupo.com/wp-content/uploads/2025/03/484132741_18061117073300028_5660752435529740135_n.jpg
ORGANIZER;CN="FarmaVital":MAILTO:farmavitalc.a@gmail.com
END:VEVENT
BEGIN:VEVENT
DTSTART;TZID=UTC:20250321T143000
DTEND;TZID=UTC:20250321T170000
DTSTAMP:20260422T173924
CREATED:20250313T151539Z
LAST-MODIFIED:20250313T151607Z
UID:15633-1742567400-1742576400@farmavitalgrupo.com
SUMMARY:Donación de productos «Lab Angelus» – Semana de Aniversario – Farmacia Farma Vital en El Limón
DESCRIPTION:
URL:https://farmavitalgrupo.com/jornadas/donacion-de-productos-lab-angelus-semana-de-aniversario-farmacia-farma-vital-en-el-limon/
LOCATION:Farma Vital El Limon
ATTACH;FMTTYPE=image/webp:https://farmavitalgrupo.com/wp-content/uploads/2025/03/3.webp
ORGANIZER;CN="FarmaVital":MAILTO:farmavitalc.a@gmail.com
END:VEVENT
BEGIN:VEVENT
DTSTART;TZID=UTC:20250321T083000
DTEND;TZID=UTC:20250321T123000
DTSTAMP:20260422T173924
CREATED:20250313T151256Z
LAST-MODIFIED:20250313T151256Z
UID:15631-1742545800-1742560200@farmavitalgrupo.com
SUMMARY:Jornada Cardiologíca - Semana de Aniversario - Farmacia Farma Vital en El Limón.
DESCRIPTION:
URL:https://farmavitalgrupo.com/jornadas/jornada-cardiologica-semana-de-aniversario-farmacia-farma-vital-en-el-limon/
LOCATION:Farma Vital El Limon
ATTACH;FMTTYPE=image/webp:https://farmavitalgrupo.com/wp-content/uploads/2025/03/3.webp
ORGANIZER;CN="FarmaVital":MAILTO:farmavitalc.a@gmail.com
END:VEVENT
BEGIN:VEVENT
DTSTART;TZID=UTC:20250320T130000
DTEND;TZID=UTC:20250320T150000
DTSTAMP:20260422T173924
CREATED:20250313T150543Z
LAST-MODIFIED:20250313T150543Z
UID:15627-1742475600-1742482800@farmavitalgrupo.com
SUMMARY:Donación de productos «Lab Meyer» – Semana de Aniversario – Farmacia Farma Vital en El Limón
DESCRIPTION:
URL:https://farmavitalgrupo.com/jornadas/donacion-de-productos-lab-meyer-semana-de-aniversario-farmacia-farma-vital-en-el-limon/
LOCATION:Farma Vital El Limon
ATTACH;FMTTYPE=image/webp:https://farmavitalgrupo.com/wp-content/uploads/2025/03/3.webp
ORGANIZER;CN="FarmaVital":MAILTO:farmavitalc.a@gmail.com
END:VEVENT
BEGIN:VEVENT
DTSTART;TZID=UTC:20250320T090000
DTEND;TZID=UTC:20250320T130000
DTSTAMP:20260422T173924
CREATED:20250313T150910Z
LAST-MODIFIED:20250313T150936Z
UID:15629-1742461200-1742475600@farmavitalgrupo.com
SUMMARY:Jornada de Jornada Medicina Natural - Semana de Aniversario - Farmacia Farma Vital en El Limón.
DESCRIPTION:
URL:https://farmavitalgrupo.com/jornadas/jornada-de-jornada-medicina-natural-semana-de-aniversario-farmacia-farma-vital-en-el-limon/
LOCATION:Farma Vital El Limon
ATTACH;FMTTYPE=image/webp:https://farmavitalgrupo.com/wp-content/uploads/2025/03/3.webp
ORGANIZER;CN="FarmaVital":MAILTO:farmavitalc.a@gmail.com
END:VEVENT
BEGIN:VEVENT
DTSTART;TZID=UTC:20250319T143000
DTEND;TZID=UTC:20250319T170000
DTSTAMP:20260422T173924
CREATED:20250313T150127Z
LAST-MODIFIED:20250313T150231Z
UID:15623-1742394600-1742403600@farmavitalgrupo.com
SUMMARY:Donación de productos «Lab biofar» – Semana de Aniversario – Farmacia Farma Vital en El Limón
DESCRIPTION:
URL:https://farmavitalgrupo.com/jornadas/donacion-de-productos-lab-biofar-semana-de-aniversario-farmacia-farma-vital-en-el-limon/
LOCATION:Farma Vital El Limon
ATTACH;FMTTYPE=image/webp:https://farmavitalgrupo.com/wp-content/uploads/2025/03/2.webp
ORGANIZER;CN="FarmaVital":MAILTO:farmavitalc.a@gmail.com
END:VEVENT
BEGIN:VEVENT
DTSTART;TZID=UTC:20250319T083000
DTEND;TZID=UTC:20250319T120000
DTSTAMP:20260422T173924
CREATED:20250313T145918Z
LAST-MODIFIED:20250313T150400Z
UID:15621-1742373000-1742385600@farmavitalgrupo.com
SUMMARY:Jornada de Medicina General — Dolor - Semana de Aniversario - Farmacia Farma Vital en El Limón.
DESCRIPTION:
URL:https://farmavitalgrupo.com/jornadas/jornada-de-medicina-general-semana-de-aniversario-farmacia-farma-vital-en-el-limon/
LOCATION:Farma Vital El Limon
ATTACH;FMTTYPE=image/webp:https://farmavitalgrupo.com/wp-content/uploads/2025/03/2.webp
ORGANIZER;CN="FarmaVital":MAILTO:farmavitalc.a@gmail.com
END:VEVENT
END:VCALENDAR